BEGIN:VCALENDAR
VERSION:2.0
PRODID:-//AudioTheme 1.8.2
BEGIN:VEVENT
UID:http://www.woodelektro.ch/?post_type=audiotheme_gig&#038;p=494
URL:http://www.woodelektro.ch/shows/schwarzer-engel-2/
DTSTART;TZID=GMT:20190301T200000
SUMMARY:Schwarzer Engel
LOCATION:Schwarzer Engel\, Engelgasse 22 \, St. Gallen\, St. Gallen\, Schweiz\, 9000 
END:VEVENT
END:VCALENDAR